| Back to the "Multiple platform build/check report" | A B C D E F G H I J K L M N O P Q R S T U [V] W X Y Z |
This page was generated on 2015-08-24 10:46:34 -0700 (Mon, 24 Aug 2015).
| Package 1056/1071 | Hostname | OS / Arch | INSTALL | BUILD | CHECK | BUILD BIN | |||||
| vsn 3.37.3 Wolfgang Huber
| zin1 | Linux (Ubuntu 14.04.2 LTS) / x86_64 | OK | OK | OK | ||||||
| perceval | Mac OS X Snow Leopard (10.6.8) / x86_64 | OK | OK | OK | OK | ||||||
| oaxaca | Mac OS X Mavericks (10.9.5) / x86_64 | OK | OK | OK | OK |