VariantTools 1.11.0 Michael Lawrence
Snapshot Date: 2015-08-23 16:24:14 -0700 (Sun, 23 Aug 2015) | URL: https://hedgehog.fhcrc.org/bioconductor/trunk/madman/Rpacks/VariantTools | Last Changed Rev: 104076 / Revision: 107696 | Last Changed Date: 2015-05-21 16:14:06 -0700 (Thu, 21 May 2015) |
| zin1 | Linux (Ubuntu 14.04.2 LTS) / x86_64 | OK | OK | WARNINGS | |  |
perceval | Mac OS X Snow Leopard (10.6.8) / x86_64 | ...NOT SUPPORTED...NOT SUPPORTED...NOT SUPPORTED... |
oaxaca | Mac OS X Mavericks (10.9.5) / x86_64 | ...NOT SUPPORTED...NOT SUPPORTED...NOT SUPPORTED... |