Back to the "Multiple platform build/check report" A  B  C  D  E  F  G  H  I  J  K  L  M  N  O  P  Q  R  S  T  U [V] W  X  Y  Z 

BioC 3.2: BUILD/CHECK reports for VanillaICE

This page was generated on 2015-08-24 10:46:33 -0700 (Mon, 24 Aug 2015).

Package 1047/1071HostnameOS / ArchINSTALLBUILDCHECKBUILD BIN
VanillaICE 1.31.3
Robert Scharpf
Snapshot Date: 2015-08-23 16:24:14 -0700 (Sun, 23 Aug 2015)
URL: https://hedgehog.fhcrc.org/bioconductor/trunk/madman/Rpacks/VanillaICE
Last Changed Rev: 105266 / Revision: 107696
Last Changed Date: 2015-06-20 16:22:45 -0700 (Sat, 20 Jun 2015)
zin1 Linux (Ubuntu 14.04.2 LTS) / x86_64  OK  OK  OK UNNEEDED, same version exists in internal repository
perceval Mac OS X Snow Leopard (10.6.8) / x86_64  OK  OK  OK  OK UNNEEDED, same version exists in internal repository
oaxaca Mac OS X Mavericks (10.9.5) / x86_64  OK  OK  OK  OK UNNEEDED, same version exists in internal repository