Back to the "Multiple platform build/check report" A [B] C  D  E  F  G  H  I  J  K  L  M  N  O  P  Q  R  S  T  U  V  W  X  Y  Z 

BioC 3.2: BUILD/CHECK reports for Biostrings

This page was generated on 2015-08-24 10:45:42 -0700 (Mon, 24 Aug 2015).

Package 107/1071HostnameOS / ArchINSTALLBUILDCHECKBUILD BIN
Biostrings 2.37.8
H. Pages
Snapshot Date: 2015-08-23 16:24:14 -0700 (Sun, 23 Aug 2015)
URL: https://hedgehog.fhcrc.org/bioconductor/trunk/madman/Rpacks/Biostrings
Last Changed Rev: 107678 / Revision: 107696
Last Changed Date: 2015-08-21 16:24:06 -0700 (Fri, 21 Aug 2015)
zin1 Linux (Ubuntu 14.04.2 LTS) / x86_64  OK  OK  WARNINGS UNNEEDED, same version exists in internal repository
perceval Mac OS X Snow Leopard (10.6.8) / x86_64  OK  OK  WARNINGS  OK UNNEEDED, same version exists in internal repository
oaxaca Mac OS X Mavericks (10.9.5) / x86_64  OK  OK  WARNINGS  OK UNNEEDED, same version exists in internal repository