Welcome to mirrors.dotsrc.org

All our mirrors of open source software are available via http, https, ftp and an onion service. More information about our mirrors including statistics and contact information is available on our mirror info pages.

For information about dotsrc.org and our other services please go to our website.

Index of /bioconductor/checkResults/3.2/bioc-20150824/

File Name  ↓ File Size  ↓ Date  ↓ 
--
-2015-08-25 00:30:12
-2015-08-25 00:30:11
-2015-08-25 00:30:20
-2015-08-25 00:30:17
-2015-08-25 00:30:22
-2015-08-25 00:30:11
-2015-08-25 00:30:12
-2015-08-25 00:30:17
-2015-08-25 00:30:13
-2015-08-25 00:30:21
-2015-08-25 00:30:15
-2015-08-25 00:30:21
-2015-08-25 00:30:19
-2015-08-25 00:30:14
-2015-08-25 00:30:14
-2015-08-25 00:30:16
-2015-08-25 00:30:21
-2015-08-25 00:30:21
-2015-08-25 00:30:18
-2015-08-25 00:30:19
-2015-08-25 00:30:11
-2015-08-25 00:30:10
-2015-08-25 00:30:14
-2015-08-25 00:30:12
-2015-08-25 00:30:14
-2015-08-25 00:30:19
-2015-08-25 00:30:16
-2015-08-25 00:30:15
-2015-08-25 00:30:17
-2015-08-25 00:30:17
-2015-08-25 00:30:18
-2015-08-25 00:30:12
-2015-08-25 00:30:14
-2015-08-25 00:30:13
-2015-08-25 00:30:10
-2015-08-25 00:30:11
-2015-08-25 00:30:21
-2015-08-25 00:30:20
-2015-08-25 00:30:11
-2015-08-25 00:30:17
-2015-08-25 00:30:13
-2015-08-25 00:30:14
-2015-08-25 00:30:14
-2015-08-25 00:30:19
-2015-08-25 00:30:16
-2015-08-25 00:30:13
-2015-08-25 00:30:15
-2015-08-25 00:30:16
-2015-08-25 00:30:15
-2015-08-25 00:30:14
-2015-08-25 00:30:15
-2015-08-25 00:30:14
-2015-08-25 00:30:15
-2015-08-25 00:30:22
-2015-08-25 00:30:16
-2015-08-25 00:30:17
-2015-08-25 00:30:11
-2015-08-25 00:30:18
-2015-08-25 00:30:12
-2015-08-25 00:30:17
-2015-08-25 00:30:14
-2015-08-25 00:30:10
-2015-08-25 00:30:12
-2015-08-25 00:30:10
-2015-08-25 00:30:18
-2015-08-25 00:30:16
-2015-08-25 00:30:13
-2015-08-25 00:30:12
-2015-08-25 00:30:16
-2015-08-25 00:30:20
-2015-08-25 00:30:15
-2015-08-25 00:30:17
-2015-08-25 00:30:18
-2015-08-25 00:30:12
-2015-08-25 00:30:11
-2015-08-25 00:30:16
-2015-08-25 00:30:17
-2015-08-25 00:30:15
-2015-08-25 00:30:15
-2015-08-25 00:30:13
-2015-08-25 00:30:18
-2015-08-25 00:30:13
-2015-08-25 00:30:15
-2015-08-25 00:30:14
-2015-08-25 00:30:10
-2015-08-25 00:30:13
-2015-08-25 00:30:14
-2015-08-25 00:30:16
-2015-08-25 00:30:18
-2015-08-25 00:30:12
-2015-08-25 00:30:11
-2015-08-25 00:30:20
-2015-08-25 00:30:11
-2015-08-25 00:30:21
-2015-08-25 00:30:15
-2015-08-25 00:30:11
-2015-08-25 00:30:19
-2015-08-25 00:30:21
-2015-08-25 00:30:21
-2015-08-25 00:30:21
-2015-08-25 00:30:11
-2015-08-25 00:30:19
-2015-08-25 00:30:11
-2015-08-25 00:30:17
-2015-08-25 00:30:21
-2015-08-25 00:30:11
-2015-08-25 00:30:12
-2015-08-25 00:30:12
-2015-08-25 00:30:21
-2015-08-25 00:30:13
-2015-08-25 00:30:14
-2015-08-25 00:30:17
-2015-08-25 00:30:14
-2015-08-25 00:30:15
-2015-08-25 00:30:20
-2015-08-25 00:30:16
-2015-08-25 00:30:16
-2015-08-25 00:30:21
-2015-08-25 00:30:12
-2015-08-25 00:30:18
-2015-08-25 00:30:15
-2015-08-25 00:30:15
-2015-08-25 00:30:16
-2015-08-25 00:30:14
-2015-08-25 00:30:17
-2015-08-25 00:30:16
-2015-08-25 00:30:13
-2015-08-25 00:30:21
-2015-08-25 00:30:15
-2015-08-25 00:30:21
-2015-08-25 00:30:17
-2015-08-25 00:30:19
-2015-08-25 00:30:19
-2015-08-25 00:30:14
-2015-08-25 00:30:19
-2015-08-25 00:30:11
-2015-08-25 00:30:19
-2015-08-25 00:30:22
-2015-08-25 00:30:13
-2015-08-25 00:30:19
-2015-08-25 00:30:17
-2015-08-25 00:30:16
-2015-08-25 00:30:19
-2015-08-25 00:30:13
-2015-08-25 00:30:11
-2015-08-25 00:30:13
-2015-08-25 00:30:13
-2015-08-25 00:30:15
-2015-08-25 00:30:14
-2015-08-25 00:30:18
-2015-08-25 00:30:19
-2015-08-25 00:30:13
-2015-08-25 00:30:14
-2015-08-25 00:30:14
-2015-08-25 00:30:15
-2015-08-25 00:30:11
-2015-08-25 00:30:18
-2015-08-25 00:30:13
-2015-08-25 00:30:13
-2015-08-25 00:30:15
-2015-08-25 00:30:13
-2015-08-25 00:30:14
-2015-08-25 00:30:13
-2015-08-25 00:30:22
-2015-08-25 00:30:11
-2015-08-25 00:30:11
-2015-08-25 00:30:13
-2015-08-25 00:30:13
-2015-08-25 00:30:14
-2015-08-25 00:30:13
-2015-08-25 00:30:15
-2015-08-25 00:30:12
-2015-08-25 00:30:21
-2015-08-25 00:30:17
-2015-08-25 00:30:17
-2015-08-25 00:30:11
-2015-08-25 00:30:11
-2015-08-25 00:30:17
-2015-08-25 00:30:15
-2015-08-25 00:30:18
-2015-08-25 00:30:19
-2015-08-25 00:30:14
-2015-08-25 00:30:10
-2015-08-25 00:30:16
-2015-08-25 00:30:19
-2015-08-25 00:30:15
-2015-08-25 00:30:16
-2015-08-25 00:30:12
-2015-08-25 00:30:12
-2015-08-25 00:30:12
-2015-08-25 00:30:13
-2015-08-25 00:30:21
-2015-08-25 00:30:11
-2015-08-25 00:30:19
-2015-08-25 00:30:17
-2015-08-25 00:30:16
-2015-08-25 00:30:18
-2015-08-25 00:30:18
-2015-08-25 00:30:22
-2015-08-25 00:30:16
-2015-08-25 00:30:21
-2015-08-25 00:30:17
-2015-08-25 00:30:18
-2015-08-25 00:30:16
-2015-08-25 00:30:17
-2015-08-25 00:30:20
-2015-08-25 00:30:17
-2015-08-25 00:30:11
-2015-08-25 00:30:21
-2015-08-25 00:30:11
-2015-08-25 00:30:14
-2015-08-25 00:30:15
-2015-08-25 00:30:11
-2015-08-25 00:30:16
-2015-08-25 00:30:15
-2015-08-25 00:30:16
-2015-08-25 00:30:21
-2015-08-25 00:30:17
-2015-08-25 00:30:16
-2015-08-25 00:30:16
-2015-08-25 00:30:18
-2015-08-25 00:30:17
-2015-08-25 00:30:16
-2015-08-25 00:30:22
-2015-08-25 00:30:17
-2015-08-25 00:30:13
-2015-08-25 00:30:14
-2015-08-25 00:30:21
-2015-08-25 00:30:14
-2015-08-25 00:30:11
-2015-08-25 00:30:20
-2015-08-25 00:30:15
-2015-08-25 00:30:17
-2015-08-25 00:30:20
-2015-08-25 00:30:12
-2015-08-25 00:30:21
-2015-08-25 00:30:16
-2015-08-25 00:30:21
-2015-08-25 00:30:10
-2015-08-25 00:30:16
-2015-08-25 00:30:11
-2015-08-25 00:30:21
-2015-08-25 00:30:14
-2015-08-25 00:30:18
-2015-08-25 00:30:11
-2015-08-25 00:30:11
-2015-08-25 00:30:18
-2015-08-25 00:30:15
-2015-08-25 00:30:14
-2015-08-25 00:30:21
-2015-08-25 00:30:16
-2015-08-25 00:30:13
-2015-08-25 00:30:15
-2015-08-25 00:30:16
-2015-08-25 00:30:15
-2015-08-25 00:30:14
-2015-08-25 00:30:13
-2015-08-25 00:30:18
-2015-08-25 00:30:16
-2015-08-25 00:30:21
-2015-08-25 00:30:14
-2015-08-25 00:30:12
-2015-08-25 00:30:18
-2015-08-25 00:30:13
-2015-08-25 00:30:19
-2015-08-25 00:30:20
-2015-08-25 00:30:11
-2015-08-25 00:30:19
-2015-08-25 00:30:15
-2015-08-25 00:30:10
-2015-08-25 00:30:17
-2015-08-25 00:30:21
-2015-08-25 00:30:22
-2015-08-25 00:30:19
-2015-08-25 00:30:15
-2015-08-25 00:30:12
-2015-08-25 00:30:12
-2015-08-25 00:30:12
-2015-08-25 00:30:17
-2015-08-25 00:30:17
-2015-08-25 00:30:19
-2015-08-25 00:30:19
-2015-08-25 00:30:16
-2015-08-25 00:30:18
-2015-08-25 00:30:15
-2015-08-25 00:30:13
-2015-08-25 00:30:19
-2015-08-25 00:30:17
-2015-08-25 00:30:17
-2015-08-25 00:30:18
-2015-08-25 00:30:12
-2015-08-25 00:30:22
-2015-08-25 00:30:13
-2015-08-25 00:30:15
-2015-08-25 00:30:16
-2015-08-25 00:30:16
-2015-08-25 00:30:18
-2015-08-25 00:30:21
-2015-08-25 00:30:13
-2015-08-25 00:30:15
-2015-08-25 00:30:21
-2015-08-25 00:30:15
-2015-08-25 00:30:19
-2015-08-25 00:30:21
-2015-08-25 00:30:17
-2015-08-25 00:30:21
-2015-08-25 00:30:13
-2015-08-25 00:30:21
-2015-08-25 00:30:18
-2015-08-25 00:30:11
-2015-08-25 00:30:10
-2015-08-25 00:30:22
-2015-08-25 00:30:18
-2015-08-25 00:30:13
-2015-08-25 00:30:14
-2015-08-25 00:30:17
-2015-08-25 00:30:17
-2015-08-25 00:30:17
-2015-08-25 00:30:18
-2015-08-25 00:30:21
-2015-08-25 00:30:21
-2015-08-25 00:30:18
-2015-08-25 00:30:18
-2015-08-25 00:30:21
-2015-08-25 00:30:17
-2015-08-25 00:30:19
-2015-08-25 00:30:16
-2015-08-25 00:30:12
-2015-08-25 00:30:14
-2015-08-25 00:30:16
-2015-08-25 00:30:11
-2015-08-25 00:30:19
-2015-08-25 00:30:18
-2015-08-25 00:30:16
-2015-08-25 00:30:15
-2015-08-25 00:30:19
-2015-08-25 00:30:20
-2015-08-25 00:30:15
-2015-08-25 00:30:13
-2015-08-25 00:30:13
-2015-08-25 00:30:17
-2015-08-25 00:30:11
-2015-08-25 00:30:13
-2015-08-25 00:30:17
-2015-08-25 00:30:17
-2015-08-25 00:30:18
-2015-08-25 00:30:13
-2015-08-25 00:30:16
-2015-08-25 00:30:17
-2015-08-25 00:30:18
-2015-08-25 00:30:19
-2015-08-25 00:30:14
-2015-08-25 00:30:16
-2015-08-25 00:30:15
-2015-08-25 00:30:16
-2015-08-25 00:30:14
-2015-08-25 00:30:20
-2015-08-25 00:30:14
-2015-08-25 00:30:16
-2015-08-25 00:30:19
-2015-08-25 00:30:16
-2015-08-25 00:30:13
-2015-08-25 00:30:18
-2015-08-25 00:30:14
-2015-08-25 00:30:16
-2015-08-25 00:30:17
-2015-08-25 00:30:12
-2015-08-25 00:30:19
-2015-08-25 00:30:19
-2015-08-25 00:30:17
-2015-08-25 00:30:18
-2015-08-25 00:30:13
-2015-08-25 00:30:21
-2015-08-25 00:30:14
-2015-08-25 00:30:19
-2015-08-25 00:30:16
-2015-08-25 00:30:12
-2015-08-25 00:30:12
-2015-08-25 00:30:17
-2015-08-25 00:30:13
-2015-08-25 00:30:15
-2015-08-25 00:30:13
-2015-08-25 00:30:13
-2015-08-25 00:30:18
-2015-08-25 00:30:18
-2015-08-25 00:30:14
-2015-08-25 00:30:11
-2015-08-25 00:30:12
-2015-08-25 00:30:15
-2015-08-25 00:30:18
-2015-08-25 00:30:12
-2015-08-25 00:30:14
-2015-08-25 00:30:21
-2015-08-25 00:30:11
-2015-08-25 00:30:18
-2015-08-25 00:30:18
-2015-08-25 00:30:12
-2015-08-25 00:30:19
-2015-08-25 00:30:13
-2015-08-25 00:30:11
-2015-08-25 00:30:14
-2015-08-25 00:30:11
-2015-08-25 00:30:16
-2015-08-25 00:30:21
-2015-08-25 00:30:21
-2015-08-25 00:30:14
-2015-08-25 00:30:16
-2015-08-25 00:30:16
-2015-08-25 00:30:21
-2015-08-25 00:30:16
-2015-08-25 00:30:13
-2015-08-25 00:30:18
-2015-08-25 00:30:20
-2015-08-25 00:30:12
-2015-08-25 00:30:13
-2015-08-25 00:30:19
-2015-08-25 00:30:19
-2015-08-25 00:30:11
-2015-08-25 00:30:12
-2015-08-25 00:30:20
-2015-08-25 00:30:17
-2015-08-25 00:30:16
-2015-08-25 00:30:19
-2015-08-25 00:30:19
-2015-08-25 00:30:21
-2015-08-25 00:30:18
-2015-08-25 00:30:13
-2015-08-25 00:30:19
-2015-08-25 00:30:19
-2015-08-25 00:30:21
-2015-08-25 00:30:19
-2015-08-25 00:30:15
-2015-08-25 00:30:11
-2015-08-25 00:30:12
-2015-08-25 00:30:12
-2015-08-25 00:30:21
-2015-08-25 00:30:16
-2015-08-25 00:30:17
-2015-08-25 00:30:21
-2015-08-25 00:30:22
-2015-08-25 00:30:15
-2015-08-25 00:30:19
-2015-08-25 00:30:18
-2015-08-25 00:30:19
-2015-08-25 00:30:21
-2015-08-25 00:30:13
-2015-08-25 00:30:14
-2015-08-25 00:30:19
-2015-08-25 00:30:11
-2015-08-25 00:30:16
-2015-08-25 00:30:13
-2015-08-25 00:30:12
-2015-08-25 00:30:17
-2015-08-25 00:30:19
-2015-08-25 00:30:19
-2015-08-25 00:30:13
-2015-08-25 00:30:10
-2015-08-25 00:30:21
-2015-08-25 00:30:12
-2015-08-25 00:30:16
-2015-08-25 00:30:22
-2015-08-25 00:30:22
-2015-08-25 00:30:19
-2015-08-25 00:30:17
-2015-08-25 00:30:18
-2015-08-25 00:30:18
-2015-08-25 00:30:13
-2015-08-25 00:30:21
-2015-08-25 00:30:12
-2015-08-25 00:30:16
-2015-08-25 00:30:11
-2015-08-25 00:30:11
-2015-08-25 00:30:11
-2015-08-25 00:30:17
-2015-08-25 00:30:16
-2015-08-25 00:30:21
-2015-08-25 00:30:12
-2015-08-25 00:30:11
-2015-08-25 00:30:17
-2015-08-25 00:30:18
-2015-08-25 00:30:18
-2015-08-25 00:30:12
-2015-08-25 00:30:17
-2015-08-25 00:30:12
-2015-08-25 00:30:21
-2015-08-25 00:30:13
-2015-08-25 00:30:20
-2015-08-25 00:30:17
-2015-08-25 00:30:11
-2015-08-25 00:30:15
-2015-08-25 00:30:18
-2015-08-25 00:30:14
-2015-08-25 00:30:22
-2015-08-25 00:30:12
-2015-08-25 00:30:12
-2015-08-25 00:30:11
-2015-08-25 00:30:15
-2015-08-25 00:30:15
-2015-08-25 00:30:12
-2015-08-25 00:30:18
-2015-08-25 00:30:14
-2015-08-25 00:30:12
-2015-08-25 00:30:19
-2015-08-25 00:30:16
-2015-08-25 00:30:14
-2015-08-25 00:30:15
-2015-08-25 00:30:18
-2015-08-25 00:30:20
-2015-08-25 00:30:22
-2015-08-25 00:30:15
-2015-08-25 00:30:11
-2015-08-25 00:30:17
-2015-08-25 00:30:19
-2015-08-25 00:30:11
-2015-08-25 00:30:20
-2015-08-25 00:30:16
-2015-08-25 00:30:21
-2015-08-25 00:30:13
-2015-08-25 00:30:18
-2015-08-25 00:30:12
-2015-08-25 00:30:13
-2015-08-25 00:30:18
-2015-08-25 00:30:22
-2015-08-25 00:30:12
-2015-08-25 00:30:17
-2015-08-25 00:30:14
-2015-08-25 00:30:14
-2015-08-25 00:30:11
-2015-08-25 00:30:18
-2015-08-25 00:30:16
-2015-08-25 00:30:21
-2015-08-25 00:30:12
-2015-08-25 00:30:21
-2015-08-25 00:30:12
-2015-08-25 00:30:12
-2015-08-25 00:30:19
-2015-08-25 00:30:18
-2015-08-25 00:30:18
-2015-08-25 00:30:12
-2015-08-25 00:30:12
-2015-08-25 00:30:13
-2015-08-25 00:30:17
-2015-08-25 00:30:19
-2015-08-25 00:30:11
-2015-08-25 00:30:11
-2015-08-25 00:30:16
-2015-08-25 00:30:18
-2015-08-25 00:30:18
-2015-08-25 00:30:14
-2015-08-25 00:30:14
-2015-08-25 00:30:15
-2015-08-25 00:30:18
-2015-08-25 00:30:15
-2015-08-25 00:30:14
-2015-08-25 00:30:15
-2015-08-25 00:30:14
-2015-08-25 00:30:17
-2015-08-25 00:30:12
-2015-08-25 00:30:15
-2015-08-25 00:30:19
-2015-08-25 00:30:21
-2015-08-25 00:30:20
-2015-08-25 00:30:15
-2015-08-25 00:30:21
-2015-08-25 00:30:21
-2015-08-25 00:30:12
-2015-08-25 00:30:13
-2015-08-25 00:30:13
-2015-08-25 00:30:12
-2015-08-25 00:30:21
-2015-08-25 00:30:21
-2015-08-25 00:30:21
-2015-08-25 00:30:16
-2015-08-25 00:30:16
-2015-08-25 00:30:21
-2015-08-25 00:30:12
-2015-08-25 00:30:14
-2015-08-25 00:30:21
-2015-08-25 00:30:12
-2015-08-25 00:30:17
-2015-08-25 00:30:16
-2015-08-25 00:30:21
-2015-08-25 00:30:21
-2015-08-25 00:30:15
-2015-08-25 00:30:21
-2015-08-25 00:30:15
-2015-08-25 00:30:11
-2015-08-25 00:30:11
-2015-08-25 00:30:12
-2015-08-25 00:30:22
-2015-08-25 00:30:19
-2015-08-25 00:30:20
-2015-08-25 00:30:17
-2015-08-25 00:30:15
-2015-08-25 00:30:18
-2015-08-25 00:30:16
-2015-08-25 00:30:21
-2015-08-25 00:30:15
-2015-08-25 00:30:22
-2015-08-25 00:30:17
-2015-08-25 00:30:12
-2015-08-25 00:30:11
-2015-08-25 00:30:18
-2015-08-25 00:30:16
-2015-08-25 00:30:18
-2015-08-25 00:30:12
-2015-08-25 00:30:15
-2015-08-25 00:30:17
-2015-08-25 00:30:21
-2015-08-25 00:30:22
-2015-08-25 00:30:16
-2015-08-25 00:30:19
-2015-08-25 00:30:14
-2015-08-25 00:30:20
-2015-08-25 00:30:17
-2015-08-25 00:30:15
-2015-08-25 00:30:19
-2015-08-25 00:30:11
-2015-08-25 00:30:19
-2015-08-25 00:30:22
-2015-08-25 00:30:13
-2015-08-25 00:30:11
-2015-08-25 00:30:21
-2015-08-25 00:30:18
-2015-08-25 00:30:11
-2015-08-25 00:30:11
-2015-08-25 00:30:12
-2015-08-25 00:30:21
-2015-08-25 00:30:12
-2015-08-25 00:30:14
-2015-08-25 00:30:21
-2015-08-25 00:30:11
-2015-08-25 00:30:12
-2015-08-25 00:30:15
-2015-08-25 00:30:11
-2015-08-25 00:30:11
-2015-08-25 00:30:13
-2015-08-25 00:30:16
-2015-08-25 00:30:11
-2015-08-25 00:30:15
-2015-08-25 00:30:16
-2015-08-25 00:30:21
-2015-08-25 00:30:11
-2015-08-25 00:30:20
-2015-08-25 00:30:22
-2015-08-25 00:30:15
-2015-08-25 00:30:22
-2015-08-25 00:30:13
-2015-08-25 00:30:22
-2015-08-25 00:30:19
-2015-08-25 00:30:14
-2015-08-25 00:30:15
-2015-08-25 00:30:12
-2015-08-25 00:30:19
-2015-08-25 00:30:14
-2015-08-25 00:30:12
-2015-08-25 00:30:11
-2015-08-25 00:30:18
-2015-08-25 00:30:16
-2015-08-25 00:30:18
-2015-08-25 00:30:11
-2015-08-25 00:30:15
-2015-08-25 00:30:13
-2015-08-25 00:30:11
-2015-08-25 00:30:17
-2015-08-25 00:30:13
-2015-08-25 00:30:20
-2015-08-25 00:30:20
-2015-08-25 00:30:12
-2015-08-25 00:30:17
-2015-08-25 00:30:17
-2015-08-25 00:30:22
-2015-08-25 00:30:15
-2015-08-25 00:30:18
-2015-08-25 00:30:19
-2015-08-25 00:30:17
-2015-08-25 00:30:17
-2015-08-25 00:30:16
-2015-08-25 00:30:22
-2015-08-25 00:30:18
-2015-08-25 00:30:21
-2015-08-25 00:30:16
-2015-08-25 00:30:21
-2015-08-25 00:30:19
-2015-08-25 00:30:12
-2015-08-25 00:30:19
-2015-08-25 00:30:12
-2015-08-25 00:30:13
-2015-08-25 00:30:15
-2015-08-25 00:30:21
-2015-08-25 00:30:18
-2015-08-25 00:30:16
-2015-08-25 00:30:16
-2015-08-25 00:30:16
-2015-08-25 00:30:13
-2015-08-25 00:30:19
-2015-08-25 00:30:21
-2015-08-25 00:30:20
-2015-08-25 00:30:15
-2015-08-25 00:30:15
-2015-08-25 00:30:15
-2015-08-25 00:30:13
-2015-08-25 00:30:11
-2015-08-25 00:30:15
-2015-08-25 00:30:13
-2015-08-25 00:30:22
-2015-08-25 00:30:18
-2015-08-25 00:30:17
-2015-08-25 00:30:15
-2015-08-25 00:30:12
-2015-08-25 00:30:15
-2015-08-25 00:30:11
-2015-08-25 00:30:21
-2015-08-25 00:30:15
-2015-08-25 00:30:15
-2015-08-25 00:30:21
-2015-08-25 00:30:12
-2015-08-25 00:30:13
-2015-08-25 00:30:16
-2015-08-25 00:30:11
-2015-08-25 00:30:13
-2015-08-25 00:30:21
-2015-08-25 00:30:19
-2015-08-25 00:30:16
-2015-08-25 00:30:18
-2015-08-25 00:30:14
-2015-08-25 00:30:14
-2015-08-25 00:30:11
-2015-08-25 00:30:11
-2015-08-25 00:30:18
-2015-08-25 00:30:17
-2015-08-25 00:30:16
-2015-08-25 00:30:14
-2015-08-25 00:30:12
-2015-08-25 00:30:11
-2015-08-25 00:30:20
-2015-08-25 00:30:17
-2015-08-25 00:30:12
-2015-08-25 00:30:19
-2015-08-25 00:30:12
-2015-08-25 00:30:21
-2015-08-25 00:30:18
-2015-08-25 00:30:15
-2015-08-25 00:30:19
-2015-08-25 00:30:16
-2015-08-25 00:30:18
-2015-08-25 00:30:16
-2015-08-25 00:30:17
-2015-08-25 00:30:16
-2015-08-25 00:30:21
-2015-08-25 00:30:20
-2015-08-25 00:30:18
-2015-08-25 00:30:17
-2015-08-25 00:30:21
-2015-08-25 00:30:11
-2015-08-25 00:30:20
-2015-08-25 00:30:17
-2015-08-25 00:30:13
-2015-08-25 00:30:13
-2015-08-25 00:30:18
-2015-08-25 00:30:16
-2015-08-25 00:30:16
-2015-08-25 00:30:18
-2015-08-25 00:30:15
-2015-08-25 00:30:18
-2015-08-25 00:30:15
-2015-08-25 00:30:17
-2015-08-25 00:30:14
-2015-08-25 00:30:13
-2015-08-25 00:30:17
-2015-08-25 00:30:18
-2015-08-25 00:30:19
-2015-08-25 00:30:22
-2015-08-25 00:30:15
-2015-08-25 00:30:14
-2015-08-25 00:30:19
-2015-08-25 00:30:19
-2015-08-25 00:30:12
-2015-08-25 00:30:12
-2015-08-25 00:30:14
-2015-08-25 00:30:12
-2015-08-25 00:30:15
-2015-08-25 00:30:15
-2015-08-25 00:30:13
-2015-08-25 00:30:15
-2015-08-25 00:30:21
-2015-08-25 00:30:18
-2015-08-25 00:30:20
-2015-08-25 00:30:16
-2015-08-25 00:30:21
-2015-08-25 00:30:13
-2015-08-25 00:30:13
-2015-08-25 00:30:12
-2015-08-25 00:30:13
-2015-08-25 00:30:20
-2015-08-25 00:30:19
-2015-08-25 00:30:20
-2015-08-25 00:30:14
-2015-08-25 00:30:13
-2015-08-25 00:30:15
-2015-08-25 00:30:16
-2015-08-25 00:30:13
-2015-08-25 00:30:17
-2015-08-25 00:30:16
-2015-08-25 00:30:18
-2015-08-25 00:30:12
-2015-08-25 00:30:18
-2015-08-25 00:30:11
-2015-08-25 00:30:17
-2015-08-25 00:30:19
-2015-08-25 00:30:11
-2015-08-25 00:30:12
-2015-08-25 00:30:15
-2015-08-25 00:30:21
-2015-08-25 00:30:13
-2015-08-25 00:30:18
-2015-08-25 00:30:13
-2015-08-25 00:30:19
-2015-08-25 00:30:19
-2015-08-25 00:30:20
-2015-08-25 00:30:18
-2015-08-25 00:30:17
-2015-08-25 00:30:15
-2015-08-25 00:30:13
-2015-08-25 00:30:15
-2015-08-25 00:30:22
-2015-08-25 00:30:19
-2015-08-25 00:30:21
-2015-08-25 00:30:13
-2015-08-25 00:30:12
-2015-08-25 00:30:11
-2015-08-25 00:30:16
-2015-08-25 00:30:19
-2015-08-25 00:30:18
-2015-08-25 00:30:14
-2015-08-25 00:30:18
-2015-08-25 00:30:22
-2015-08-25 00:30:20
-2015-08-25 00:30:14
-2015-08-25 00:30:19
-2015-08-25 00:30:21
-2015-08-25 00:30:14
-2015-08-25 00:30:12
-2015-08-25 00:30:13
-2015-08-25 00:30:19
-2015-08-25 00:30:22
-2015-08-25 00:30:11
-2015-08-25 00:30:19
-2015-08-25 00:30:13
-2015-08-25 00:30:15
-2015-08-25 00:30:21
-2015-08-25 00:30:16
-2015-08-25 00:30:22
-2015-08-25 00:30:17
-2015-08-25 00:30:13
-2015-08-25 00:30:21
-2015-08-25 00:30:10
-2015-08-25 00:30:19
-2015-08-25 00:30:17
-2015-08-25 00:30:22
-2015-08-25 00:30:18
-2015-08-25 00:30:16
-2015-08-25 00:30:15
-2015-08-25 00:30:22
-2015-08-25 00:30:17
-2015-08-25 00:30:18
-2015-08-25 00:30:18
-2015-08-25 00:30:11
-2015-08-25 00:30:20
-2015-08-25 00:30:12
-2015-08-25 00:30:12
-2015-08-25 00:30:21
-2015-08-25 00:30:15
-2015-08-25 00:30:19
-2015-08-25 00:30:18
-2015-08-25 00:30:15
-2015-08-25 00:30:13
-2015-08-25 00:30:20
-2015-08-25 00:30:19
-2015-08-25 00:30:21
-2015-08-25 00:30:12
-2015-08-25 00:30:11
-2015-08-25 00:30:11
-2015-08-25 00:30:22
-2015-08-25 00:30:11
-2015-08-25 00:30:11
-2015-08-25 00:30:12
-2015-08-25 00:30:11
-2015-08-25 00:30:17
-2015-08-25 00:30:22
-2015-08-25 00:30:10
-2015-08-25 00:30:21
-2015-08-25 00:30:16
-2015-08-25 00:30:14
-2015-08-25 00:30:11
-2015-08-25 00:30:11
-2015-08-25 00:30:16
-2015-08-25 00:30:17
-2015-08-25 00:30:14
-2015-08-25 00:30:12
-2015-08-25 00:30:12
-2015-08-25 00:30:14
-2015-08-25 00:30:14
-2015-08-25 00:30:17
-2015-08-25 00:30:12
-2015-08-25 00:30:13
-2015-08-25 00:30:12
-2015-08-25 00:30:17
-2015-08-25 00:30:11
-2015-08-25 00:30:16
-2015-08-25 00:30:16
-2015-08-25 00:30:14
-2015-08-25 00:30:14
-2015-08-25 00:30:16
-2015-08-25 00:30:18
-2015-08-25 00:30:13
-2015-08-25 00:30:14
-2015-08-25 00:30:12
-2015-08-25 00:30:18
-2015-08-25 00:30:14
-2015-08-25 00:30:20
-2015-08-25 00:30:21
-2015-08-25 00:30:19
-2015-08-25 00:30:20
-2015-08-25 00:30:14
-2015-08-25 00:30:21
-2015-08-25 00:30:13
-2015-08-25 00:30:17
-2015-08-25 00:30:12
-2015-08-25 00:30:21
-2015-08-25 00:30:17
-2015-08-25 00:30:11
-2015-08-25 00:30:14
-2015-08-25 00:30:13
-2015-08-25 00:30:12
-2015-08-25 00:30:18
-2015-08-25 00:30:16
-2015-08-25 00:30:13
-2015-08-25 00:30:14
-2015-08-25 00:30:21
-2015-08-25 00:30:13
-2015-08-25 00:30:11
-2015-08-25 00:30:12
-2015-08-25 00:30:13
-2015-08-25 00:30:20
-2015-08-25 00:30:14
-2015-08-25 00:30:12
-2015-08-25 00:30:17
-2015-08-25 00:30:18
-2015-08-25 00:30:19
-2015-08-25 00:30:10
-2015-08-25 00:30:16
-2015-08-25 00:30:19
-2015-08-25 00:30:16
-2015-08-25 00:30:13
-2015-08-25 00:30:12
-2015-08-25 00:30:18
-2015-08-25 00:30:11
-2015-08-25 00:30:11
-2015-08-25 00:30:16
-2015-08-25 00:30:13
-2015-08-25 00:30:14
-2015-08-25 00:30:21
-2015-08-25 00:30:15
-2015-08-25 00:30:13
-2015-08-25 00:30:12
-2015-08-25 00:30:16
-2015-08-25 00:30:21
-2015-08-25 00:30:10
-2015-08-25 00:30:19
-2015-08-25 00:30:19
-2015-08-25 00:30:14
-2015-08-25 00:30:12
-2015-08-25 00:30:11
-2015-08-25 00:30:13
-2015-08-25 00:30:15
-2015-08-25 00:30:11
-2015-08-25 00:30:11
-2015-08-25 00:30:10
-2015-08-25 00:30:16
-2015-08-25 00:30:14
-2015-08-25 00:30:12
-2015-08-25 00:30:21
-2015-08-25 00:30:15
-2015-08-25 00:30:17
-2015-08-25 00:30:19
-2015-08-25 00:30:20
-2015-08-25 00:30:16
-2015-08-25 00:30:11
-2015-08-25 00:30:20
-2015-08-25 00:30:17
-2015-08-25 00:30:11
-2015-08-25 00:30:13
-2015-08-25 00:30:18
-2015-08-25 00:30:13
-2015-08-25 00:30:19
-2015-08-25 00:30:11
-2015-08-25 00:30:12
-2015-08-25 00:30:14
-2015-08-25 00:30:11
-2015-08-25 00:30:12
-2015-08-25 00:30:18
-2015-08-25 00:30:21
-2015-08-25 00:30:16
-2015-08-25 00:30:14
-2015-08-25 00:30:11
-2015-08-25 00:30:12
-2015-08-25 00:30:11
-2015-08-25 00:30:17
-2015-08-25 00:30:14
-2015-08-25 00:30:18
-2015-08-25 00:30:20
-2015-08-25 00:30:14
-2015-08-25 00:30:21
-2015-08-25 00:30:12
-2015-08-25 00:30:14
-2015-08-25 00:30:11
-2015-08-25 00:30:11
-2015-08-25 00:30:17
-2015-08-25 00:30:12
-2015-08-25 00:30:11
-2015-08-25 00:30:10
-2015-08-25 00:30:17
-2015-08-25 00:30:13
-2015-08-25 00:30:11
-2015-08-25 00:30:22
-2015-08-25 00:30:12
-2015-08-25 00:30:16
-2015-08-25 00:30:22
-2015-08-25 00:30:14
-2015-08-25 00:30:18
-2015-08-25 00:30:20
-2015-08-25 00:30:16
-2015-08-25 00:30:13
-2015-08-25 00:30:14
-2015-08-25 00:30:19
-2015-08-25 00:30:12
-2015-08-25 00:30:14
-2015-08-25 00:30:17
-2015-08-25 00:30:15
-2015-08-25 00:30:16
-2015-08-25 00:30:13
-2015-08-25 00:30:21
-2015-08-25 00:30:19
-2015-08-25 00:30:13
-2015-08-25 00:30:11
-2015-08-25 00:30:19
-2015-08-25 00:30:21
-2015-08-25 00:30:15
-2015-08-25 00:30:17
-2015-08-25 00:30:17
-2015-08-25 00:30:11
-2015-08-25 00:30:19
-2015-08-25 00:30:11
-2015-08-25 00:30:11
-2015-08-25 00:30:18
-2015-08-25 00:30:11
-2015-08-25 00:30:13
-2015-08-25 00:30:17
-2015-08-25 00:30:20
-2015-08-25 00:30:14
-2015-08-25 00:30:15
-2015-08-25 00:30:14
-2015-08-25 00:30:12
-2015-08-25 00:30:13
-2015-08-25 00:30:20
-2015-08-25 00:30:12
-2015-08-25 00:30:13
-2015-08-25 00:30:15
-2015-08-25 00:30:22
-2015-08-25 00:30:15
-2015-08-25 00:30:20
-2015-08-25 00:30:21
8.5 MiB2015-08-25 00:30:19
4.0 MiB2015-08-25 00:30:15
1.1 MiB2015-08-25 00:30:18
1.1 MiB2015-08-25 00:30:17
1.1 MiB2015-08-25 00:30:17
998.3 KiB2015-08-25 00:30:22
346.6 KiB2015-08-25 00:30:21
209.6 KiB2015-08-25 00:30:16
86.1 KiB2015-08-25 00:30:22
85.7 KiB2015-08-25 00:30:17
85.3 KiB2015-08-25 00:30:18
82.7 KiB2015-08-25 00:30:17
7.6 KiB2015-08-25 00:30:19
7.1 KiB2015-08-25 00:30:10
7.1 KiB2015-08-25 00:30:10
7.0 KiB2015-08-25 00:30:10
6.1 KiB2015-08-25 00:30:18
6.0 KiB2015-08-25 00:30:17
5.8 KiB2015-08-25 00:30:22
5.6 KiB2015-08-25 00:30:17
5.1 KiB2015-08-25 00:30:19
2.6 KiB2015-08-25 00:30:13