Package: variants Version: 1.28.0 Command: chmod a+r variants -R && F:\biocbuild\bbs-3.19-bioc\R\bin\R.exe CMD build --keep-empty-dirs --no-resave-data variants StartedAt: 2024-06-28 13:20:21 -0400 (Fri, 28 Jun 2024) EndedAt: 2024-06-28 13:22:25 -0400 (Fri, 28 Jun 2024) EllapsedTime: 124.1 seconds RetCode: 0 Status: OK PackageFile: variants_1.28.0.tar.gz PackageFileSize: 4.84 MiB