All our mirrors of open source software are available via http, https, ftp and an onion service. More information about our mirrors including statistics and contact information is available on our mirror info pages.
For information about dotsrc.org and our other services please go to our website.
| File Name ↓ | File Size ↓ | Date ↓ |
|---|---|---|
| Parent directory/ | - | - |
| BP4RNAseq/ | - | 2024-10-18 20:30:05 |
| BiocMetaWorkflow/ | - | 2024-10-18 20:30:05 |
| CAGEWorkflow/ | - | 2024-10-18 20:30:05 |
| EGSEA123/ | - | 2024-10-18 20:30:05 |
| ExpHunterSuite/ | - | 2024-10-18 20:30:05 |
| ExpressionNormalizationWorkflow/ | - | 2024-10-18 20:30:05 |
| GeoMxWorkflows/ | - | 2024-10-18 20:30:05 |
| RNAseq123/ | - | 2024-10-18 20:30:05 |
| RnaSeqGeneEdgeRQL/ | - | 2024-10-18 20:30:05 |
| SingscoreAMLMutations/ | - | 2024-10-18 20:30:05 |
| TCGAWorkflow/ | - | 2024-10-18 20:30:05 |
| annotation/ | - | 2024-10-18 20:30:05 |
| arrays/ | - | 2024-10-18 20:30:05 |
| chipseqDB/ | - | 2024-10-18 20:30:05 |
| csawUsersGuide/ | - | 2024-10-18 20:30:05 |
| cytofWorkflow/ | - | 2024-10-18 20:30:05 |
| fluentGenomics/ | - | 2024-10-18 20:30:05 |
| generegulation/ | - | 2024-10-18 20:30:05 |
| highthroughputassays/ | - | 2024-10-18 20:30:05 |
| liftOver/ | - | 2024-10-18 20:30:05 |
| maEndToEnd/ | - | 2024-10-18 20:30:05 |
| methylationArrayAnalysis/ | - | 2024-10-18 20:30:05 |
| recountWorkflow/ | - | 2024-10-18 20:30:05 |
| rnaseqDTU/ | - | 2024-10-18 20:30:05 |
| rnaseqGene/ | - | 2024-10-18 20:30:05 |
| seqpac/ | - | 2024-10-18 20:30:05 |
| sequencing/ | - | 2024-10-18 20:30:05 |
| simpleSingleCell/ | - | 2024-10-18 20:30:05 |
| spicyWorkflow/ | - | 2024-10-18 20:30:05 |
| variants/ | - | 2024-10-18 20:30:05 |
| 120px-Blue_Light_Icon.svg.png | 7.1 KiB | 2024-10-18 20:30:05 |
| 120px-Green_Light_Icon.svg.png | 7.1 KiB | 2024-10-18 20:30:05 |
| 120px-Red_Light_Icon.svg.png | 7.0 KiB | 2024-10-18 20:30:05 |
| BUILD_STATUS_DB.txt | 6.0 KiB | 2024-10-18 20:30:05 |
| DEVEL3b.png | 2.6 KiB | 2024-10-18 20:30:05 |
| PROPAGATION_STATUS_DB.txt | 2.0 KiB | 2024-10-18 20:30:05 |
| Renviron.bioc | 3.2 KiB | 2024-10-18 20:30:05 |
| index.html | 108.2 KiB | 2024-10-18 20:30:05 |
| lconway-NodeInfo.html | 6.6 KiB | 2024-06-11 20:30:10 |
| lconway-R-instpkgs.html | 605.9 KiB | 2024-06-11 20:30:10 |
| lconway-index.html | 32.7 KiB | 2024-06-11 20:30:11 |
| meat-index.dcf | 3.5 KiB | 2024-10-18 20:30:05 |
| merida1-NodeInfo.html | 6.6 KiB | 2024-10-18 20:30:05 |
| merida1-R-instpkgs.html | 607.0 KiB | 2024-10-18 20:30:05 |
| merida1-index.html | 32.7 KiB | 2024-10-18 20:30:05 |
| nebbiolo1-NodeInfo.html | 6.8 KiB | 2024-10-18 20:30:05 |
| nebbiolo1-R-instpkgs.html | 521.9 KiB | 2024-10-18 20:30:05 |
| nebbiolo1-index.html | 38.5 KiB | 2024-10-18 20:30:05 |
| palomino3-NodeInfo.html | 6.8 KiB | 2024-06-28 20:30:09 |
| palomino3-R-instpkgs.html | 461.8 KiB | 2024-06-28 20:30:09 |
| palomino3-index.html | 32.3 KiB | 2024-06-28 20:30:09 |
| palomino7-NodeInfo.html | 6.8 KiB | 2024-10-18 20:30:05 |
| palomino7-R-instpkgs.html | 462.3 KiB | 2024-10-18 20:30:05 |
| palomino7-index.html | 31.7 KiB | 2024-10-18 20:30:05 |
| report.css | 10.7 KiB | 2024-10-18 20:30:05 |
| report.js | 6.0 KiB | 2024-10-18 20:30:05 |
| report.tgz | 289.0 KiB | 2024-10-18 20:30:05 |
| skipped-index.dcf | 0 B | 2024-10-18 20:30:05 |