Package: KEGGandMetacoreDzPathwaysGEO Version: 1.24.0 Command: /home/biocbuild/bbs-3.19-bioc/R/bin/R CMD build --keep-empty-dirs --no-resave-data KEGGandMetacoreDzPathwaysGEO StartedAt: 2024-10-17 10:35:42 -0400 (Thu, 17 Oct 2024) EndedAt: 2024-10-17 10:35:54 -0400 (Thu, 17 Oct 2024) EllapsedTime: 12.0 seconds RetCode: 0 Status: OK PackageFile: KEGGandMetacoreDzPathwaysGEO_1.24.0.tar.gz PackageFileSize: 98.57 MiB