Package: OSCA.workflows Version: 1.12.0 Command: /home/biocbuild/bbs-3.19-bioc/R/bin/R CMD build --keep-empty-dirs --no-resave-data OSCA.workflows StartedAt: 2024-10-18 07:32:22 -0400 (Fri, 18 Oct 2024) EndedAt: 2024-10-18 08:37:06 -0400 (Fri, 18 Oct 2024) EllapsedTime: 3884.8 seconds RetCode: 0 Status: OK PackageFile: OSCA.workflows_1.12.0.tar.gz PackageFileSize: 15.97 MiB