Package: zellkonverter Version: 1.14.1 Command: E:\biocbuild\bbs-3.19-bioc\R\bin\R.exe CMD check --no-multiarch --test-dir=longtests --no-stop-on-test-error --no-codoc --no-examples --no-manual --ignore-vignettes --check-subdirs=no zellkonverter_1.14.1.tar.gz StartedAt: 2024-10-12 16:56:50 -0400 (Sat, 12 Oct 2024) EndedAt: 2024-10-12 16:59:07 -0400 (Sat, 12 Oct 2024) EllapsedTime: 136.9 seconds RetCode: 1 Status: ERROR CheckDir: zellkonverter.Rcheck Warnings: NA