See here for how to subscribe to these builds.
This page was generated on 2024-10-12 23:55 -0400 (Sat, 12 Oct 2024).
| |
| See this page for all the Bioconductor builds and their schedule. |
| Hostname | OS | Arch (*) | R version | Installed pkgs |
|---|---|---|---|---|
| nebbiolo1 | Linux (Ubuntu 22.04.3 LTS) | x86_64 | 4.4.1 (2024-06-14) -- "Race for Your Life" | 4763 |
| palomino7 | Windows Server 2022 Datacenter | x64 | 4.4.1 (2024-06-14 ucrt) -- "Race for Your Life" | 4500 |
| merida1 | macOS 12.7.5 Monterey | x86_64 | 4.4.1 (2024-06-14) -- "Race for Your Life" | 4529 |
| Click on any hostname to see more info about the system (e.g. compilers) (*) as reported by 'uname -p', except on Windows and Mac OS X | ||||
| QUICK STATS | OS / Arch | CHECK | |||||||
| nebbiolo1 | Linux (Ubuntu 22.04.3 LTS) / x86_64 |
| |||||||
| palomino7 | Windows Server 2022 Datacenter / x64 |
| |||||||
| merida1 | macOS 12.7.5 Monterey / x86_64 |
| |||||||
| Package 1/33 | Hostname | OS / Arch | CHECK | ||||||
| APAlyzer 1.18.0 (landing page) Ruijia Wang
| nebbiolo1 | Linux (Ubuntu 22.04.3 LTS) / x86_64 | ERROR | ||||||
| palomino7 | Windows Server 2022 Datacenter / x64 | ERROR | |||||||
| merida1 | macOS 12.7.5 Monterey / x86_64 | ERROR | |||||||
| Package 2/33 | Hostname | OS / Arch | CHECK | ||||||
| autonomics 1.12.1 (landing page) Aditya Bhagwat
| nebbiolo1 | Linux (Ubuntu 22.04.3 LTS) / x86_64 | ERROR | ||||||
| palomino7 | Windows Server 2022 Datacenter / x64 | ERROR | |||||||
| merida1 | macOS 12.7.5 Monterey / x86_64 | ERROR | |||||||
| Package 3/33 | Hostname | OS / Arch | CHECK | ||||||
| basilisk 1.16.0 (landing page) Aaron Lun
| nebbiolo1 | Linux (Ubuntu 22.04.3 LTS) / x86_64 | OK | ||||||
| palomino7 | Windows Server 2022 Datacenter / x64 | OK | |||||||
| merida1 | macOS 12.7.5 Monterey / x86_64 | OK | |||||||
| Package 4/33 | Hostname | OS / Arch | CHECK | ||||||
| beachmat 2.20.0 (landing page) Aaron Lun
| nebbiolo1 | Linux (Ubuntu 22.04.3 LTS) / x86_64 | ERROR | ||||||
| palomino7 | Windows Server 2022 Datacenter / x64 | ERROR | |||||||
| merida1 | macOS 12.7.5 Monterey / x86_64 | ERROR | |||||||
| Package 5/33 | Hostname | OS / Arch | CHECK | ||||||
| biodb 1.12.0 (landing page) Pierrick Roger
| nebbiolo1 | Linux (Ubuntu 22.04.3 LTS) / x86_64 | WARNINGS | ||||||
| palomino7 | Windows Server 2022 Datacenter / x64 | ERROR | |||||||
| merida1 | macOS 12.7.5 Monterey / x86_64 | OK | |||||||
| Package 6/33 | Hostname | OS / Arch | CHECK | ||||||
| biodbChebi 1.10.0 (landing page) Pierrick Roger
| nebbiolo1 | Linux (Ubuntu 22.04.3 LTS) / x86_64 | OK | ||||||
| palomino7 | Windows Server 2022 Datacenter / x64 | OK | |||||||
| merida1 | macOS 12.7.5 Monterey / x86_64 | OK | |||||||
| Package 7/33 | Hostname | OS / Arch | CHECK | ||||||
| biodbExpasy 1.8.1 (landing page) Pierrick Roger
| nebbiolo1 | Linux (Ubuntu 22.04.3 LTS) / x86_64 | ERROR | ||||||
| palomino7 | Windows Server 2022 Datacenter / x64 | ERROR | |||||||
| merida1 | macOS 12.7.5 Monterey / x86_64 | ERROR | |||||||
| Package 8/33 | Hostname | OS / Arch | CHECK | ||||||
| biodbHmdb 1.10.2 (landing page) Pierrick Roger
| nebbiolo1 | Linux (Ubuntu 22.04.3 LTS) / x86_64 | OK | ||||||
| palomino7 | Windows Server 2022 Datacenter / x64 | OK | |||||||
| merida1 | macOS 12.7.5 Monterey / x86_64 | OK | |||||||
| Package 9/33 | Hostname | OS / Arch | CHECK | ||||||
| biodbKegg 1.10.2 (landing page) Pierrick Roger
| nebbiolo1 | Linux (Ubuntu 22.04.3 LTS) / x86_64 | ERROR | ||||||
| palomino7 | Windows Server 2022 Datacenter / x64 | ERROR | |||||||
| merida1 | macOS 12.7.5 Monterey / x86_64 | ERROR | |||||||
| Package 10/33 | Hostname | OS / Arch | CHECK | ||||||
Pierrick Roger
| nebbiolo1 | Linux (Ubuntu 22.04.3 LTS) / x86_64 | ERROR | ||||||
| palomino7 | Windows Server 2022 Datacenter / x64 | OK | |||||||
| merida1 | macOS 12.7.5 Monterey / x86_64 | OK | |||||||
| Package 11/33 | Hostname | OS / Arch | CHECK | ||||||
| biodbNcbi 1.8.0 (landing page) Pierrick Roger
| nebbiolo1 | Linux (Ubuntu 22.04.3 LTS) / x86_64 | ERROR | ||||||
| palomino7 | Windows Server 2022 Datacenter / x64 | WARNINGS | |||||||
| merida1 | macOS 12.7.5 Monterey / x86_64 | WARNINGS | |||||||
| Package 12/33 | Hostname | OS / Arch | CHECK | ||||||
| biodbNci 1.8.0 (landing page) Pierrick Roger
| nebbiolo1 | Linux (Ubuntu 22.04.3 LTS) / x86_64 | OK | ||||||
| palomino7 | Windows Server 2022 Datacenter / x64 | OK | |||||||
| merida1 | macOS 12.7.5 Monterey / x86_64 | OK | |||||||
| Package 13/33 | Hostname | OS / Arch | CHECK | ||||||
| biodbUniprot 1.10.0 (landing page) Pierrick Roger
| nebbiolo1 | Linux (Ubuntu 22.04.3 LTS) / x86_64 | OK | ||||||
| palomino7 | Windows Server 2022 Datacenter / x64 | OK | |||||||
| merida1 | macOS 12.7.5 Monterey / x86_64 | OK | |||||||
| Package 14/33 | Hostname | OS / Arch | CHECK | ||||||
| cBioPortalData 2.16.0 (landing page) Marcel Ramos
| nebbiolo1 | Linux (Ubuntu 22.04.3 LTS) / x86_64 | TIMEOUT | ||||||
| palomino7 | Windows Server 2022 Datacenter / x64 | OK | |||||||
| merida1 | macOS 12.7.5 Monterey / x86_64 | OK | |||||||
| Package 15/33 | Hostname | OS / Arch | CHECK | ||||||
| ChromSCape 1.14.0 (landing page) Pacome Prompsy
| nebbiolo1 | Linux (Ubuntu 22.04.3 LTS) / x86_64 | ERROR | ||||||
| palomino7 | Windows Server 2022 Datacenter / x64 | ERROR | |||||||
| merida1 | macOS 12.7.5 Monterey / x86_64 | ERROR | |||||||
| Package 16/33 | Hostname | OS / Arch | CHECK | ||||||
| clusterExperiment 2.24.0 (landing page) Elizabeth Purdom
| nebbiolo1 | Linux (Ubuntu 22.04.3 LTS) / x86_64 | ERROR | ||||||
| palomino7 | Windows Server 2022 Datacenter / x64 | ERROR | |||||||
| merida1 | macOS 12.7.5 Monterey / x86_64 | ERROR | |||||||
| Package 17/33 | Hostname | OS / Arch | CHECK | ||||||
| CRISPRball 1.0.0 (landing page) Jared Andrews
| nebbiolo1 | Linux (Ubuntu 22.04.3 LTS) / x86_64 | OK | ||||||
| palomino7 | Windows Server 2022 Datacenter / x64 | OK | |||||||
| merida1 | macOS 12.7.5 Monterey / x86_64 | OK | |||||||
| Package 18/33 | Hostname | OS / Arch | CHECK | ||||||
| crisprScore 1.8.0 (landing page) Jean-Philippe Fortin
| nebbiolo1 | Linux (Ubuntu 22.04.3 LTS) / x86_64 | OK | ||||||
| palomino7 | Windows Server 2022 Datacenter / x64 | OK | |||||||
| merida1 | macOS 12.7.5 Monterey / x86_64 | OK | |||||||
| Package 19/33 | Hostname | OS / Arch | CHECK | ||||||
| DelayedMatrixStats 1.26.0 (landing page) Peter Hickey
| nebbiolo1 | Linux (Ubuntu 22.04.3 LTS) / x86_64 | OK | ||||||
| palomino7 | Windows Server 2022 Datacenter / x64 | OK | |||||||
| merida1 | macOS 12.7.5 Monterey / x86_64 | OK | |||||||
| Package 20/33 | Hostname | OS / Arch | CHECK | ||||||
| DropletUtils 1.24.0 (landing page) Jonathan Griffiths
| nebbiolo1 | Linux (Ubuntu 22.04.3 LTS) / x86_64 | OK | ||||||
| palomino7 | Windows Server 2022 Datacenter / x64 | OK | |||||||
| merida1 | macOS 12.7.5 Monterey / x86_64 | OK | |||||||
| Package 21/33 | Hostname | OS / Arch | CHECK | ||||||
| EpiMix 1.6.1 (landing page) Yuanning Zheng
| nebbiolo1 | Linux (Ubuntu 22.04.3 LTS) / x86_64 | OK | ||||||
| palomino7 | Windows Server 2022 Datacenter / x64 | OK | |||||||
| merida1 | macOS 12.7.5 Monterey / x86_64 | OK | |||||||
| Package 22/33 | Hostname | OS / Arch | CHECK | ||||||
| extraChIPs 1.8.5 (landing page) Stevie Pederson
| nebbiolo1 | Linux (Ubuntu 22.04.3 LTS) / x86_64 | OK | ||||||
| palomino7 | Windows Server 2022 Datacenter / x64 | OK | |||||||
| merida1 | macOS 12.7.5 Monterey / x86_64 | OK | |||||||
| Package 23/33 | Hostname | OS / Arch | CHECK | ||||||
| GenomicFeatures 1.56.0 (landing page) H. Pagès
| nebbiolo1 | Linux (Ubuntu 22.04.3 LTS) / x86_64 | WARNINGS | ||||||
| palomino7 | Windows Server 2022 Datacenter / x64 | WARNINGS | |||||||
| merida1 | macOS 12.7.5 Monterey / x86_64 | WARNINGS | |||||||
| Package 24/33 | Hostname | OS / Arch | CHECK | ||||||
| ginmappeR 1.0.5 (landing page) Fernando Sola
| nebbiolo1 | Linux (Ubuntu 22.04.3 LTS) / x86_64 | OK | ||||||
| palomino7 | Windows Server 2022 Datacenter / x64 | OK | |||||||
| merida1 | macOS 12.7.5 Monterey / x86_64 | OK | |||||||
| Package 25/33 | Hostname | OS / Arch | CHECK | ||||||
| HDF5Array 1.32.1 (landing page) Hervé Pagès
| nebbiolo1 | Linux (Ubuntu 22.04.3 LTS) / x86_64 | OK | ||||||
| palomino7 | Windows Server 2022 Datacenter / x64 | WARNINGS | |||||||
| merida1 | macOS 12.7.5 Monterey / x86_64 | WARNINGS | |||||||
| Package 26/33 | Hostname | OS / Arch | CHECK | ||||||
| midasHLA 1.12.0 (landing page) Maciej Migdał
| nebbiolo1 | Linux (Ubuntu 22.04.3 LTS) / x86_64 | ERROR | ||||||
| palomino7 | Windows Server 2022 Datacenter / x64 | ERROR | |||||||
| merida1 | macOS 12.7.5 Monterey / x86_64 | ERROR | |||||||
| Package 27/33 | Hostname | OS / Arch | CHECK | ||||||
| mosdef 1.0.0 (landing page) Federico Marini
| nebbiolo1 | Linux (Ubuntu 22.04.3 LTS) / x86_64 | OK | ||||||
| palomino7 | Windows Server 2022 Datacenter / x64 | OK | |||||||
| merida1 | macOS 12.7.5 Monterey / x86_64 | OK | |||||||
| Package 28/33 | Hostname | OS / Arch | CHECK | ||||||
| MungeSumstats 1.12.2 (landing page) Alan Murphy
| nebbiolo1 | Linux (Ubuntu 22.04.3 LTS) / x86_64 | OK | ||||||
| palomino7 | Windows Server 2022 Datacenter / x64 | OK | |||||||
| merida1 | macOS 12.7.5 Monterey / x86_64 | OK | |||||||
| Package 29/33 | Hostname | OS / Arch | CHECK | ||||||
| rhdf5 2.48.0 (landing page) Mike Smith
| nebbiolo1 | Linux (Ubuntu 22.04.3 LTS) / x86_64 | OK | ||||||
| palomino7 | Windows Server 2022 Datacenter / x64 | WARNINGS | |||||||
| merida1 | macOS 12.7.5 Monterey / x86_64 | OK | |||||||
| Package 30/33 | Hostname | OS / Arch | CHECK | ||||||
| SimBu 1.6.0 (landing page) Alexander Dietrich
| nebbiolo1 | Linux (Ubuntu 22.04.3 LTS) / x86_64 | OK | ||||||
| palomino7 | Windows Server 2022 Datacenter / x64 | ERROR | |||||||
| merida1 | macOS 12.7.5 Monterey / x86_64 | OK | |||||||
| Package 31/33 | Hostname | OS / Arch | CHECK | ||||||
| TENxIO 1.6.1 (landing page) Marcel Ramos
| nebbiolo1 | Linux (Ubuntu 22.04.3 LTS) / x86_64 | ERROR | ||||||
| palomino7 | Windows Server 2022 Datacenter / x64 | ERROR | |||||||
| merida1 | macOS 12.7.5 Monterey / x86_64 | ERROR | |||||||
| Package 32/33 | Hostname | OS / Arch | CHECK | ||||||
| xcms 4.2.3 (landing page) Steffen Neumann
| nebbiolo1 | Linux (Ubuntu 22.04.3 LTS) / x86_64 | ERROR | ||||||
| palomino7 | Windows Server 2022 Datacenter / x64 | ERROR | |||||||
| merida1 | macOS 12.7.5 Monterey / x86_64 | ERROR | |||||||
| Package 33/33 | Hostname | OS / Arch | CHECK | ||||||
| zellkonverter 1.14.1 (landing page) Luke Zappia
| nebbiolo1 | Linux (Ubuntu 22.04.3 LTS) / x86_64 | OK | ||||||
| palomino7 | Windows Server 2022 Datacenter / x64 | ERROR | |||||||
| merida1 | macOS 12.7.5 Monterey / x86_64 | OK | |||||||