Package: HDF5Array Version: 1.32.1 Command: /home/biocbuild/bbs-3.19-bioc/R/bin/R CMD check --test-dir=longtests --no-stop-on-test-error --no-codoc --no-examples --no-manual --ignore-vignettes --check-subdirs=no HDF5Array_1.32.1.tar.gz StartedAt: 2024-10-12 16:24:31 -0400 (Sat, 12 Oct 2024) EndedAt: 2024-10-12 16:35:37 -0400 (Sat, 12 Oct 2024) EllapsedTime: 665.8 seconds RetCode: 0 Status: OK CheckDir: HDF5Array.Rcheck Warnings: 0