Package: ChromSCape Version: 1.14.0 Command: /Library/Frameworks/R.framework/Resources/bin/R CMD check --test-dir=longtests --no-stop-on-test-error --no-codoc --no-examples --no-manual --ignore-vignettes --check-subdirs=no ChromSCape_1.14.0.tar.gz StartedAt: 2024-06-08 16:05:04 -0400 (Sat, 08 Jun 2024) EndedAt: 2024-06-08 16:10:12 -0400 (Sat, 08 Jun 2024) EllapsedTime: 308.1 seconds RetCode: 1 Status: ERROR CheckDir: ChromSCape.Rcheck Warnings: NA