Package: zenith Version: 1.6.0 Command: /Library/Frameworks/R.framework/Resources/bin/R CMD INSTALL zenith StartedAt: 2024-10-16 15:38:53 -0400 (Wed, 16 Oct 2024) EndedAt: 2024-10-16 15:40:35 -0400 (Wed, 16 Oct 2024) EllapsedTime: 101.5 seconds RetCode: 0 Status: OK