Package: weitrix Version: 1.16.0 Command: rm -rf weitrix.buildbin-libdir && mkdir weitrix.buildbin-libdir && /Users/biocbuild/BBS/utils/build-universal.sh weitrix_1.16.0.tar.gz /Library/Frameworks/R.framework/Resources/bin/R weitrix.buildbin-libdir StartedAt: 2024-06-10 00:45:35 -0400 (Mon, 10 Jun 2024) EndedAt: 2024-06-10 00:46:14 -0400 (Mon, 10 Jun 2024) EllapsedTime: 38.4 seconds RetCode: 0 Status: OK PackageFile: weitrix_1.16.0.tgz PackageFileSize: 9.244 MiB