Package: wavClusteR Version: 2.38.0 Command: F:\biocbuild\bbs-3.19-bioc\R\bin\R.exe CMD INSTALL wavClusteR StartedAt: 2024-06-26 16:18:53 -0400 (Wed, 26 Jun 2024) EndedAt: 2024-06-26 16:19:44 -0400 (Wed, 26 Jun 2024) EllapsedTime: 51.5 seconds RetCode: 0 Status: OK