Package: wavClusteR Version: 2.38.0 Command: /home/biocbuild/R/R-beta-2024-04-15_r86425/bin/R CMD check --install=check:wavClusteR.install-out.txt --library=/home/biocbuild/R/R-beta-2024-04-15_r86425/site-library --no-vignettes --timings wavClusteR_2.38.0.tar.gz StartedAt: 2024-05-08 13:07:18 -0000 (Wed, 08 May 2024) EndedAt: 2024-05-08 13:13:14 -0000 (Wed, 08 May 2024) EllapsedTime: 356.7 seconds RetCode: 0 Status: OK CheckDir: wavClusteR.Rcheck Warnings: 0