Package: wateRmelon Version: 2.10.0 Command: /Library/Frameworks/R.framework/Resources/bin/R CMD build --keep-empty-dirs --no-resave-data wateRmelon StartedAt: 2024-06-09 18:32:22 -0400 (Sun, 09 Jun 2024) EndedAt: 2024-06-09 18:33:56 -0400 (Sun, 09 Jun 2024) EllapsedTime: 94.3 seconds RetCode: 0 Status: OK PackageFile: wateRmelon_2.10.0.tar.gz PackageFileSize: 3.272 MiB