Package: waddR Version: 1.18.0 Command: /Library/Frameworks/R.framework/Resources/bin/R CMD INSTALL waddR StartedAt: 2024-10-16 16:22:30 -0400 (Wed, 16 Oct 2024) EndedAt: 2024-10-16 16:23:19 -0400 (Wed, 16 Oct 2024) EllapsedTime: 48.8 seconds RetCode: 0 Status: OK