Package: vtpnet Version: 0.44.0 Command: /home/biocbuild/bbs-3.19-bioc/R/bin/R CMD check --install=check:vtpnet.install-out.txt --library=/home/biocbuild/bbs-3.19-bioc/R/site-library --timings vtpnet_0.44.0.tar.gz StartedAt: 2024-10-17 06:18:08 -0400 (Thu, 17 Oct 2024) EndedAt: 2024-10-17 06:23:47 -0400 (Thu, 17 Oct 2024) EllapsedTime: 338.7 seconds RetCode: 0 Status: OK CheckDir: vtpnet.Rcheck Warnings: 0