Package: vtpnet Version: 0.44.0 Command: /home/biocbuild/bbs-3.19-bioc/R/bin/R CMD build --keep-empty-dirs --no-resave-data vtpnet StartedAt: 2024-10-16 21:20:45 -0400 (Wed, 16 Oct 2024) EndedAt: 2024-10-16 21:22:14 -0400 (Wed, 16 Oct 2024) EllapsedTime: 89.2 seconds RetCode: 0 Status: OK PackageFile: vtpnet_0.44.0.tar.gz PackageFileSize: 20.11 MiB