Package: vtpnet Version: 0.44.0 Command: /home/biocbuild/R/R-beta-2024-04-15_r86425/bin/R CMD INSTALL vtpnet StartedAt: 2024-05-08 20:54:51 -0000 (Wed, 08 May 2024) EndedAt: 2024-05-08 20:55:55 -0000 (Wed, 08 May 2024) EllapsedTime: 64.0 seconds RetCode: 0 Status: OK