Package: vsn Version: 3.72.0 Command: rm -rf vsn.buildbin-libdir && mkdir vsn.buildbin-libdir && E:\biocbuild\bbs-3.19-bioc\R\bin\R.exe CMD INSTALL --build --library=vsn.buildbin-libdir vsn_3.72.0.tar.gz StartedAt: 2024-10-17 08:50:42 -0400 (Thu, 17 Oct 2024) EndedAt: 2024-10-17 08:51:05 -0400 (Thu, 17 Oct 2024) EllapsedTime: 22.9 seconds RetCode: 0 Status: OK PackageFile: vsn_3.72.0.zip PackageFileSize: 1.564 MiB