Package: vsn Version: 3.72.0 Command: rm -rf vsn.buildbin-libdir && mkdir vsn.buildbin-libdir && F:\biocbuild\bbs-3.19-bioc\R\bin\R.exe CMD INSTALL --build --library=vsn.buildbin-libdir vsn_3.72.0.tar.gz StartedAt: 2024-06-27 09:06:03 -0400 (Thu, 27 Jun 2024) EndedAt: 2024-06-27 09:06:28 -0400 (Thu, 27 Jun 2024) EllapsedTime: 24.5 seconds RetCode: 0 Status: OK PackageFile: vsn_3.72.0.zip PackageFileSize: 1.564 MiB