Package: vsn Version: 3.72.0 Command: /Library/Frameworks/R.framework/Resources/bin/R CMD check --install=check:vsn.install-out.txt --library=/Library/Frameworks/R.framework/Resources/library --no-vignettes --timings vsn_3.72.0.tar.gz StartedAt: 2024-06-09 23:47:31 -0400 (Sun, 09 Jun 2024) EndedAt: 2024-06-09 23:48:43 -0400 (Sun, 09 Jun 2024) EllapsedTime: 72.2 seconds RetCode: 0 Status: OK CheckDir: vsn.Rcheck Warnings: 0