Package: vsn Version: 3.72.0 Command: /Library/Frameworks/R.framework/Resources/bin/R CMD check --install=check:vsn.install-out.txt --library=/Library/Frameworks/R.framework/Resources/library --no-vignettes --timings vsn_3.72.0.tar.gz StartedAt: 2024-10-18 16:34:52 -0400 (Fri, 18 Oct 2024) EndedAt: 2024-10-18 16:36:04 -0400 (Fri, 18 Oct 2024) EllapsedTime: 72.0 seconds RetCode: 0 Status: OK CheckDir: vsn.Rcheck Warnings: 0