Package: vsn Version: 3.72.0 Command: rm -rf vsn.buildbin-libdir && mkdir vsn.buildbin-libdir && /Users/biocbuild/BBS/utils/build-universal.sh vsn_3.72.0.tar.gz /Library/Frameworks/R.framework/Resources/bin/R vsn.buildbin-libdir StartedAt: 2024-10-15 20:49:02 -0400 (Tue, 15 Oct 2024) EndedAt: 2024-10-15 20:49:18 -0400 (Tue, 15 Oct 2024) EllapsedTime: 16.1 seconds RetCode: 0 Status: OK PackageFile: vsn_3.72.0.tgz PackageFileSize: 2.506 MiB