Package: vbmp Version: 1.72.0 Command: /home/biocbuild/R/R-beta-2024-04-15_r86425/bin/R CMD check --install=check:vbmp.install-out.txt --library=/home/biocbuild/R/R-beta-2024-04-15_r86425/site-library --no-vignettes --timings vbmp_1.72.0.tar.gz StartedAt: 2024-05-08 13:02:27 -0000 (Wed, 08 May 2024) EndedAt: 2024-05-08 13:02:46 -0000 (Wed, 08 May 2024) EllapsedTime: 19.0 seconds RetCode: 0 Status: OK CheckDir: vbmp.Rcheck Warnings: 0