Package: vbmp Version: 1.72.0 Command: /home/biocbuild/R/R-beta-2024-04-15_r86425/bin/R CMD build --keep-empty-dirs --no-resave-data vbmp StartedAt: 2024-05-09 04:18:11 -0000 (Thu, 09 May 2024) EndedAt: 2024-05-09 04:18:46 -0000 (Thu, 09 May 2024) EllapsedTime: 35.0 seconds RetCode: 0 Status: OK PackageFile: vbmp_1.72.0.tar.gz PackageFileSize: 1.752 MiB