Package: vbmp Version: 1.72.0 Command: rm -rf vbmp.buildbin-libdir && mkdir vbmp.buildbin-libdir && /Users/biocbuild/BBS/utils/build-universal.sh vbmp_1.72.0.tar.gz /Library/Frameworks/R.framework/Resources/bin/R vbmp.buildbin-libdir StartedAt: 2024-10-15 20:47:23 -0400 (Tue, 15 Oct 2024) EndedAt: 2024-10-15 20:47:28 -0400 (Tue, 15 Oct 2024) EllapsedTime: 4.5 seconds RetCode: 0 Status: OK PackageFile: vbmp_1.72.0.tgz PackageFileSize: 1.803 MiB