Package: tricycle Version: 1.12.0 Command: rm -rf tricycle.buildbin-libdir && mkdir tricycle.buildbin-libdir && E:\biocbuild\bbs-3.19-bioc\R\bin\R.exe CMD INSTALL --build --library=tricycle.buildbin-libdir tricycle_1.12.0.tar.gz StartedAt: 2024-10-17 08:48:55 -0400 (Thu, 17 Oct 2024) EndedAt: 2024-10-17 08:49:42 -0400 (Thu, 17 Oct 2024) EllapsedTime: 46.4 seconds RetCode: 0 Status: OK PackageFile: tricycle_1.12.0.zip PackageFileSize: 3.712 MiB