Package: traviz Version: 1.10.0 Command: rm -rf traviz.buildbin-libdir && mkdir traviz.buildbin-libdir && /Users/biocbuild/BBS/utils/build-universal.sh traviz_1.10.0.tar.gz /Library/Frameworks/R.framework/Resources/bin/R traviz.buildbin-libdir StartedAt: 2024-10-15 20:41:57 -0400 (Tue, 15 Oct 2024) EndedAt: 2024-10-15 20:42:36 -0400 (Tue, 15 Oct 2024) EllapsedTime: 38.4 seconds RetCode: 0 Status: OK PackageFile: traviz_1.10.0.tgz PackageFileSize: 3.709 MiB