Package: topdownr Version: 1.26.0 Command: /Library/Frameworks/R.framework/Resources/bin/R CMD check --install=check:topdownr.install-out.txt --library=/Library/Frameworks/R.framework/Resources/library --no-vignettes --timings topdownr_1.26.0.tar.gz StartedAt: 2024-10-17 14:29:57 -0400 (Thu, 17 Oct 2024) EndedAt: 2024-10-17 14:43:56 -0400 (Thu, 17 Oct 2024) EllapsedTime: 838.7 seconds RetCode: 0 Status: OK CheckDir: topdownr.Rcheck Warnings: 0