Package: topGO Version: 2.56.0 Command: rm -rf topGO.buildbin-libdir && mkdir topGO.buildbin-libdir && /Users/biocbuild/BBS/utils/build-universal.sh topGO_2.56.0.tar.gz /Library/Frameworks/R.framework/Resources/bin/R topGO.buildbin-libdir StartedAt: 2024-10-17 17:22:25 -0400 (Thu, 17 Oct 2024) EndedAt: 2024-10-17 17:23:18 -0400 (Thu, 17 Oct 2024) EllapsedTime: 52.9 seconds RetCode: 0 Status: OK PackageFile: topGO_2.56.0.tgz PackageFileSize: 2.126 MiB