Package: topGO Version: 2.56.0 Command: /Library/Frameworks/R.framework/Resources/bin/R CMD check --install=check:topGO.install-out.txt --library=/Library/Frameworks/R.framework/Resources/library --no-vignettes --timings topGO_2.56.0.tar.gz StartedAt: 2024-06-09 23:36:15 -0400 (Sun, 09 Jun 2024) EndedAt: 2024-06-09 23:38:40 -0400 (Sun, 09 Jun 2024) EllapsedTime: 145.0 seconds RetCode: 0 Status: OK CheckDir: topGO.Rcheck Warnings: 0