Package: tkWidgets Version: 1.82.0 Command: rm -rf tkWidgets.buildbin-libdir && mkdir tkWidgets.buildbin-libdir && /Users/biocbuild/BBS/utils/build-universal.sh tkWidgets_1.82.0.tar.gz /Library/Frameworks/R.framework/Resources/bin/R tkWidgets.buildbin-libdir StartedAt: 2024-06-11 13:33:51 -0400 (Tue, 11 Jun 2024) EndedAt: 2024-06-11 13:37:02 -0400 (Tue, 11 Jun 2024) EllapsedTime: 190.1 seconds RetCode: 0 Status: OK PackageFile: tkWidgets_1.82.0.tgz PackageFileSize: 652.6 KiB