Package: timescape Version: 1.28.0 Command: /Library/Frameworks/R.framework/Resources/bin/R CMD INSTALL timescape StartedAt: 2024-10-16 16:04:04 -0400 (Wed, 16 Oct 2024) EndedAt: 2024-10-16 16:04:09 -0400 (Wed, 16 Oct 2024) EllapsedTime: 4.3 seconds RetCode: 0 Status: OK