Package: timescape Version: 1.28.0 Command: rm -rf timescape.buildbin-libdir && mkdir timescape.buildbin-libdir && /Users/biocbuild/BBS/utils/build-universal.sh timescape_1.28.0.tar.gz /Library/Frameworks/R.framework/Resources/bin/R timescape.buildbin-libdir StartedAt: 2024-10-15 20:38:28 -0400 (Tue, 15 Oct 2024) EndedAt: 2024-10-15 20:38:33 -0400 (Tue, 15 Oct 2024) EllapsedTime: 4.5 seconds RetCode: 0 Status: OK PackageFile: timescape_1.28.0.tgz PackageFileSize: 477.2 KiB