Package: tidyomics Version: 1.0.0 Command: /Library/Frameworks/R.framework/Resources/bin/R CMD INSTALL tidyomics StartedAt: 2024-10-16 16:24:46 -0400 (Wed, 16 Oct 2024) EndedAt: 2024-10-16 16:26:04 -0400 (Wed, 16 Oct 2024) EllapsedTime: 78.5 seconds RetCode: 0 Status: OK