Package: tenXplore Version: 1.26.2 Command: /home/biocbuild/bbs-3.19-bioc/R/bin/R CMD INSTALL tenXplore StartedAt: 2024-10-16 16:21:53 -0400 (Wed, 16 Oct 2024) EndedAt: 2024-10-16 16:22:25 -0400 (Wed, 16 Oct 2024) EllapsedTime: 32.0 seconds RetCode: 0 Status: OK