Package: tenXplore Version: 1.26.0 Command: /Library/Frameworks/R.framework/Resources/bin/R CMD INSTALL tenXplore StartedAt: 2024-06-09 15:22:11 -0400 (Sun, 09 Jun 2024) EndedAt: 2024-06-09 15:22:55 -0400 (Sun, 09 Jun 2024) EllapsedTime: 44.6 seconds RetCode: 0 Status: OK