Package: tenXplore Version: 1.26.0 Command: /Library/Frameworks/R.framework/Resources/bin/R CMD check --install=check:tenXplore.install-out.txt --library=/Library/Frameworks/R.framework/Resources/library --no-vignettes --timings tenXplore_1.26.0.tar.gz StartedAt: 2024-06-09 23:30:42 -0400 (Sun, 09 Jun 2024) EndedAt: 2024-06-09 23:35:23 -0400 (Sun, 09 Jun 2024) EllapsedTime: 280.9 seconds RetCode: 0 Status: OK CheckDir: tenXplore.Rcheck Warnings: 0