Package: tadar Version: 1.2.1 Command: rm -rf tadar.buildbin-libdir && mkdir tadar.buildbin-libdir && E:\biocbuild\bbs-3.19-bioc\R\bin\R.exe CMD INSTALL --build --library=tadar.buildbin-libdir tadar_1.2.1.tar.gz StartedAt: 2024-10-17 08:45:39 -0400 (Thu, 17 Oct 2024) EndedAt: 2024-10-17 08:46:37 -0400 (Thu, 17 Oct 2024) EllapsedTime: 57.7 seconds RetCode: 0 Status: OK PackageFile: tadar_1.2.1.zip PackageFileSize: 1.039 MiB