Package: synlet Version: 2.4.0 Command: /home/biocbuild/bbs-3.19-bioc/R/bin/R CMD INSTALL synlet StartedAt: 2024-10-16 16:00:20 -0400 (Wed, 16 Oct 2024) EndedAt: 2024-10-16 16:00:24 -0400 (Wed, 16 Oct 2024) EllapsedTime: 3.9 seconds RetCode: 0 Status: OK