Package: staRank Version: 1.46.0 Command: rm -rf staRank.buildbin-libdir && mkdir staRank.buildbin-libdir && E:\biocbuild\bbs-3.19-bioc\R\bin\R.exe CMD INSTALL --build --library=staRank.buildbin-libdir staRank_1.46.0.tar.gz StartedAt: 2024-10-17 08:44:07 -0400 (Thu, 17 Oct 2024) EndedAt: 2024-10-17 08:44:46 -0400 (Thu, 17 Oct 2024) EllapsedTime: 38.8 seconds RetCode: 0 Status: OK PackageFile: staRank_1.46.0.zip PackageFileSize: 1.027 MiB