Package: staRank Version: 1.46.0 Command: /Library/Frameworks/R.framework/Resources/bin/R CMD build --keep-empty-dirs --no-resave-data staRank StartedAt: 2024-06-10 05:35:23 -0400 (Mon, 10 Jun 2024) EndedAt: 2024-06-10 05:36:29 -0400 (Mon, 10 Jun 2024) EllapsedTime: 66.0 seconds RetCode: 0 Status: OK PackageFile: staRank_1.46.0.tar.gz PackageFileSize: 816.5 KiB