Package: sscu Version: 2.34.0 Command: F:\biocbuild\bbs-3.19-bioc\R\bin\R.exe CMD check --no-multiarch --install=check:sscu.install-out.txt --library=F:\biocbuild\bbs-3.19-bioc\R\library --no-vignettes --timings sscu_2.34.0.tar.gz StartedAt: 2024-06-27 06:38:14 -0400 (Thu, 27 Jun 2024) EndedAt: 2024-06-27 06:40:11 -0400 (Thu, 27 Jun 2024) EllapsedTime: 116.6 seconds RetCode: 0 Status: WARNINGS CheckDir: sscu.Rcheck Warnings: 1