Package: sscu Version: 2.34.0 Command: /Library/Frameworks/R.framework/Resources/bin/R CMD check --install=check:sscu.install-out.txt --library=/Library/Frameworks/R.framework/Resources/library --no-vignettes --timings sscu_2.34.0.tar.gz StartedAt: 2024-06-11 07:14:57 -0400 (Tue, 11 Jun 2024) EndedAt: 2024-06-11 07:17:38 -0400 (Tue, 11 Jun 2024) EllapsedTime: 160.9 seconds RetCode: 0 Status: WARNINGS CheckDir: sscu.Rcheck Warnings: 1