Package: sscu Version: 2.34.0 Command: rm -rf sscu.buildbin-libdir && mkdir sscu.buildbin-libdir && /Users/biocbuild/BBS/utils/build-universal.sh sscu_2.34.0.tar.gz /Library/Frameworks/R.framework/Resources/bin/R sscu.buildbin-libdir StartedAt: 2024-10-15 20:29:39 -0400 (Tue, 15 Oct 2024) EndedAt: 2024-10-15 20:29:56 -0400 (Tue, 15 Oct 2024) EllapsedTime: 17.3 seconds RetCode: 0 Status: OK PackageFile: sscu_2.34.0.tgz PackageFileSize: 1.371 MiB