Package: spillR Version: 1.0.1 Command: /Library/Frameworks/R.framework/Resources/bin/R CMD build --keep-empty-dirs --no-resave-data spillR StartedAt: 2024-10-16 23:39:15 -0400 (Wed, 16 Oct 2024) EndedAt: 2024-10-16 23:44:35 -0400 (Wed, 16 Oct 2024) EllapsedTime: 319.6 seconds RetCode: 0 Status: OK PackageFile: spillR_1.0.1.tar.gz PackageFileSize: 564.8 KiB